BEGIN:VCALENDAR
VERSION:2.0
PRODID:-//B&amp;B Berglift - ECPv6.15.20//NONSGML v1.0//EN
CALSCALE:GREGORIAN
METHOD:PUBLISH
X-WR-CALNAME:B&amp;B Berglift
X-ORIGINAL-URL:https://www.berglift.com/en/
X-WR-CALDESC:Events for B&amp;B Berglift
REFRESH-INTERVAL;VALUE=DURATION:PT1H
X-Robots-Tag:noindex
X-PUBLISHED-TTL:PT1H
BEGIN:VTIMEZONE
TZID:Europe/Vienna
BEGIN:DAYLIGHT
TZOFFSETFROM:+0100
TZOFFSETTO:+0200
TZNAME:CEST
DTSTART:20230326T010000
END:DAYLIGHT
BEGIN:STANDARD
TZOFFSETFROM:+0200
TZOFFSETTO:+0100
TZNAME:CET
DTSTART:20231029T010000
END:STANDARD
BEGIN:DAYLIGHT
TZOFFSETFROM:+0100
TZOFFSETTO:+0200
TZNAME:CEST
DTSTART:20240331T010000
END:DAYLIGHT
BEGIN:STANDARD
TZOFFSETFROM:+0200
TZOFFSETTO:+0100
TZNAME:CET
DTSTART:20241027T010000
END:STANDARD
BEGIN:DAYLIGHT
TZOFFSETFROM:+0100
TZOFFSETTO:+0200
TZNAME:CEST
DTSTART:20250330T010000
END:DAYLIGHT
BEGIN:STANDARD
TZOFFSETFROM:+0200
TZOFFSETTO:+0100
TZNAME:CET
DTSTART:20251026T010000
END:STANDARD
END:VTIMEZONE
BEGIN:VEVENT
DTSTART;TZID=Europe/Vienna:20241214T170000
DTEND;TZID=Europe/Vienna:20241214T230000
DTSTAMP:20260423T113732
CREATED:20241122T170958Z
LAST-MODIFIED:20251115T195417Z
UID:10000068-1734195600-1734217200@www.berglift.com
SUMMARY:Winter Ski Opening - Die Foischn Hund - Zwirn
DESCRIPTION:Discover ZWIRN – the band that has conquered the party scene with hits like Hoiwa7i and #hobidi! Their music stands for energy\, good vibes\, and unforgettable moments. With their new song da fress i an Hirsch and a fresh album\, ZWIRN are ready to keep rocking the stage. And it’s getting hot in winter: The guys are heating up Gastein and performing in the Berglift – an unforgettable event! Get the sounds that make every party a highlight!
URL:https://www.berglift.com/en/event/zwirn-1/
LOCATION:Berglift Bad Hofgastein\, Bundesstrasse 252\, Bad Hofgastein\, Salzburg Land\, 5630\, Austria
ATTACH;FMTTYPE=image/jpeg:https://www.berglift.com/wp-content/uploads/2024/11/Zwirn_Foto_2024_Komposition_31-scaled-scaled.jpg
ORGANIZER;CN="Gasthof Berglift GmbH":MAILTO:info@berglift.com
END:VEVENT
BEGIN:VEVENT
DTSTART;TZID=Europe/Vienna:20241231T220000
DTEND;TZID=Europe/Vienna:20241231T220000
DTSTAMP:20260423T113732
CREATED:20241222T145010Z
LAST-MODIFIED:20251115T195523Z
UID:10000130-1735682400-1735682400@www.berglift.com
SUMMARY:NEW YEAR'S EVE PARTY 2025 @SALETTL
DESCRIPTION:NEW YEAR’S EVE PARTY 2025!\n \nCelebrate the new year with us! From 10:00 PM\, DJ Philhouse will provide the perfect party atmosphere for a relaxed start to the new year. There will also be special drinks and a grand fireworks display.\n \nCelebrate with us! And start the new year with us!\n \nSee you at Salettl.
URL:https://www.berglift.com/en/event/new-years-eve-party-2025-salettl/
LOCATION:Salzburg Land
ATTACH;FMTTYPE=image/png:https://www.berglift.com/wp-content/uploads/2024/12/Kopie-von-Silvesterpartys-1.png
END:VEVENT
END:VCALENDAR