BEGIN:VCALENDAR
VERSION:2.0
PRODID:-//B&amp;B Berglift - ECPv6.15.20//NONSGML v1.0//EN
CALSCALE:GREGORIAN
METHOD:PUBLISH
X-ORIGINAL-URL:https://www.berglift.com/en/
X-WR-CALDESC:Events for B&amp;B Berglift
REFRESH-INTERVAL;VALUE=DURATION:PT1H
X-Robots-Tag:noindex
X-PUBLISHED-TTL:PT1H
BEGIN:VTIMEZONE
TZID:Europe/Vienna
BEGIN:DAYLIGHT
TZOFFSETFROM:+0100
TZOFFSETTO:+0200
TZNAME:CEST
DTSTART:20240331T010000
END:DAYLIGHT
BEGIN:STANDARD
TZOFFSETFROM:+0200
TZOFFSETTO:+0100
TZNAME:CET
DTSTART:20241027T010000
END:STANDARD
BEGIN:DAYLIGHT
TZOFFSETFROM:+0100
TZOFFSETTO:+0200
TZNAME:CEST
DTSTART:20250330T010000
END:DAYLIGHT
BEGIN:STANDARD
TZOFFSETFROM:+0200
TZOFFSETTO:+0100
TZNAME:CET
DTSTART:20251026T010000
END:STANDARD
BEGIN:DAYLIGHT
TZOFFSETFROM:+0100
TZOFFSETTO:+0200
TZNAME:CEST
DTSTART:20260329T010000
END:DAYLIGHT
BEGIN:STANDARD
TZOFFSETFROM:+0200
TZOFFSETTO:+0100
TZNAME:CET
DTSTART:20261025T010000
END:STANDARD
END:VTIMEZONE
BEGIN:VEVENT
DTSTART;TZID=Europe/Vienna:20250114T153000
DTEND;TZID=Europe/Vienna:20250114T183000
DTSTAMP:20260423T103507
CREATED:20241210T095418Z
LAST-MODIFIED:20251115T195435Z
UID:10000119-1736868600-1736879400@www.berglift.com
SUMMARY:Stressed Out
DESCRIPTION:Stressed Out – A cover band of a special kind that knows exactly how to create the right atmosphere with songs from then and now.From après-ski hits to rock. From oldies to today’s charts. Good music and good mood are guaranteed – see you there!
URL:https://www.berglift.com/en/event/stressed-out/2025-01-14/
LOCATION:Salzburg Land
END:VEVENT
BEGIN:VEVENT
DTSTART;TZID=Europe/Vienna:20250128T153000
DTEND;TZID=Europe/Vienna:20250128T183000
DTSTAMP:20260423T103507
CREATED:20241222T145437Z
LAST-MODIFIED:20251115T195513Z
UID:10000128-1738078200-1738089000@www.berglift.com
SUMMARY:Satellite
DESCRIPTION:Live on Stage at the SALETTL – SATELLITE\n \nWith all the well-known songs that really create a great atmosphere. For the best party mood during après-ski.\n \nHappy Hour from 3:00 PM to 4:00 PM.\n \nCelebrate with us! See you at Salettl!
URL:https://www.berglift.com/en/event/satellite/
LOCATION:Salzburg Land
ATTACH;FMTTYPE=image/png:https://www.berglift.com/wp-content/uploads/2024/12/KW-46_17.11.2024-28.png
END:VEVENT
END:VCALENDAR