BEGIN:VCALENDAR
VERSION:2.0
PRODID:-//B&amp;B Berglift - ECPv6.15.20//NONSGML v1.0//EN
CALSCALE:GREGORIAN
METHOD:PUBLISH
X-ORIGINAL-URL:https://www.berglift.com/en/
X-WR-CALDESC:Events for B&amp;B Berglift
REFRESH-INTERVAL;VALUE=DURATION:PT1H
X-Robots-Tag:noindex
X-PUBLISHED-TTL:PT1H
BEGIN:VTIMEZONE
TZID:Europe/Vienna
BEGIN:DAYLIGHT
TZOFFSETFROM:+0100
TZOFFSETTO:+0200
TZNAME:CEST
DTSTART:20240331T010000
END:DAYLIGHT
BEGIN:STANDARD
TZOFFSETFROM:+0200
TZOFFSETTO:+0100
TZNAME:CET
DTSTART:20241027T010000
END:STANDARD
BEGIN:DAYLIGHT
TZOFFSETFROM:+0100
TZOFFSETTO:+0200
TZNAME:CEST
DTSTART:20250330T010000
END:DAYLIGHT
BEGIN:STANDARD
TZOFFSETFROM:+0200
TZOFFSETTO:+0100
TZNAME:CET
DTSTART:20251026T010000
END:STANDARD
BEGIN:DAYLIGHT
TZOFFSETFROM:+0100
TZOFFSETTO:+0200
TZNAME:CEST
DTSTART:20260329T010000
END:DAYLIGHT
BEGIN:STANDARD
TZOFFSETFROM:+0200
TZOFFSETTO:+0100
TZNAME:CET
DTSTART:20261025T010000
END:STANDARD
END:VTIMEZONE
BEGIN:VEVENT
DTSTART;TZID=Europe/Vienna:20250211T153000
DTEND;TZID=Europe/Vienna:20250211T183000
DTSTAMP:20260421T133508
CREATED:20241210T103039Z
LAST-MODIFIED:20251115T195454Z
UID:10000124-1739287800-1739298600@www.berglift.com
SUMMARY:Duo Selection
DESCRIPTION:Duo Selection is an experienced piano/keyboard and vocal duo from Austria/Europe. We have many years of experience performing in renowned 4- and 5-star hotels in Austria\, Germany\, Switzerland\, Dubai\, as well as on cruise ships.Let Duo Selection inspire you musically – for an unforgettable experience!
URL:https://www.berglift.com/en/event/duo-selection-2/
LOCATION:Salzburg Land
END:VEVENT
BEGIN:VEVENT
DTSTART;TZID=Europe/Vienna:20250225T153000
DTEND;TZID=Europe/Vienna:20250225T183000
DTSTAMP:20260421T133508
CREATED:20241210T095418Z
LAST-MODIFIED:20251115T195435Z
UID:10000120-1740497400-1740508200@www.berglift.com
SUMMARY:Stressed Out
DESCRIPTION:Stressed Out – A cover band of a special kind that knows exactly how to create the right atmosphere with songs from then and now.From après-ski hits to rock. From oldies to today’s charts. Good music and good mood are guaranteed – see you there!
URL:https://www.berglift.com/en/event/stressed-out/2025-02-25/
LOCATION:Salzburg Land
END:VEVENT
BEGIN:VEVENT
DTSTART;TZID=Europe/Vienna:20250226T180000
DTEND;TZID=Europe/Vienna:20250226T220000
DTSTAMP:20260421T133508
CREATED:20250224T122923Z
LAST-MODIFIED:20251115T195550Z
UID:10000176-1740592800-1740607200@www.berglift.com
SUMMARY:Late Night Shopping. Up to 40% off. Ski Rental Berglift
DESCRIPTION:Late Night Shopping at Ski Rental Berglift – Up to 40% discount on top brands!\nExperience the exclusive Late Night Shopping at Ski Rental Berglift and secure up to 40% discount on a wide selection of high-quality ski and winter sports equipment! \nFor a limited time only\, you can grab top brand products at unbeatable prices\, including:✅ Skis & ski boots – Perfect performance on the slopes✅ Helmets & ski goggles – For optimal safety and best visibility✅ Sunglasses – Protection & style in the mountains✅ Functional underwear – Warming base layers for maximum comfort \nCome by\, discover our range and benefit from the unique offers! From 26.02.2025 every Wednesday and Monday!
URL:https://www.berglift.com/en/event/late-night-shopping-up-to-40-off-ski-rental-berglift/2025-02-26/
LOCATION:Berglift Bad Hofgastein\, Bundesstrasse 252\, Bad Hofgastein\, Salzburg Land\, 5630\, Austria
ATTACH;FMTTYPE=image/png:https://www.berglift.com/wp-content/uploads/2025/02/LATE-NIGHT-SHOPPING.png
END:VEVENT
END:VCALENDAR