BEGIN:VCALENDAR
VERSION:2.0
PRODID:-//B&amp;B Berglift - ECPv6.15.20//NONSGML v1.0//EN
CALSCALE:GREGORIAN
METHOD:PUBLISH
X-ORIGINAL-URL:https://www.berglift.com/en/
X-WR-CALDESC:Events for B&amp;B Berglift
REFRESH-INTERVAL;VALUE=DURATION:PT1H
X-Robots-Tag:noindex
X-PUBLISHED-TTL:PT1H
BEGIN:VTIMEZONE
TZID:Europe/Vienna
BEGIN:DAYLIGHT
TZOFFSETFROM:+0100
TZOFFSETTO:+0200
TZNAME:CEST
DTSTART:20240331T010000
END:DAYLIGHT
BEGIN:STANDARD
TZOFFSETFROM:+0200
TZOFFSETTO:+0100
TZNAME:CET
DTSTART:20241027T010000
END:STANDARD
BEGIN:DAYLIGHT
TZOFFSETFROM:+0100
TZOFFSETTO:+0200
TZNAME:CEST
DTSTART:20250330T010000
END:DAYLIGHT
BEGIN:STANDARD
TZOFFSETFROM:+0200
TZOFFSETTO:+0100
TZNAME:CET
DTSTART:20251026T010000
END:STANDARD
BEGIN:DAYLIGHT
TZOFFSETFROM:+0100
TZOFFSETTO:+0200
TZNAME:CEST
DTSTART:20260329T010000
END:DAYLIGHT
BEGIN:STANDARD
TZOFFSETFROM:+0200
TZOFFSETTO:+0100
TZNAME:CET
DTSTART:20261025T010000
END:STANDARD
END:VTIMEZONE
BEGIN:VEVENT
DTSTART;TZID=Europe/Vienna:20250303T180000
DTEND;TZID=Europe/Vienna:20250303T220000
DTSTAMP:20260421T120109
CREATED:20250224T122923Z
LAST-MODIFIED:20251115T195550Z
UID:10000177-1741024800-1741039200@www.berglift.com
SUMMARY:Late Night Shopping. Up to 40% off. Ski Rental Berglift
DESCRIPTION:Late Night Shopping at Ski Rental Berglift – Up to 40% discount on top brands!\nExperience the exclusive Late Night Shopping at Ski Rental Berglift and secure up to 40% discount on a wide selection of high-quality ski and winter sports equipment! \nFor a limited time only\, you can grab top brand products at unbeatable prices\, including:✅ Skis & ski boots – Perfect performance on the slopes✅ Helmets & ski goggles – For optimal safety and best visibility✅ Sunglasses – Protection & style in the mountains✅ Functional underwear – Warming base layers for maximum comfort \nCome by\, discover our range and benefit from the unique offers! From 26.02.2025 every Wednesday and Monday!
URL:https://www.berglift.com/en/event/late-night-shopping-up-to-40-off-ski-rental-berglift/2025-03-03/
LOCATION:Berglift Bad Hofgastein\, Bundesstrasse 252\, Bad Hofgastein\, Salzburg Land\, 5630\, Austria
ATTACH;FMTTYPE=image/png:https://www.berglift.com/wp-content/uploads/2025/02/LATE-NIGHT-SHOPPING.png
END:VEVENT
BEGIN:VEVENT
DTSTART;TZID=Europe/Vienna:20250305T180000
DTEND;TZID=Europe/Vienna:20250305T220000
DTSTAMP:20260421T120109
CREATED:20250224T122923Z
LAST-MODIFIED:20251115T195550Z
UID:10000178-1741197600-1741212000@www.berglift.com
SUMMARY:Late Night Shopping. Up to 40% off. Ski Rental Berglift
DESCRIPTION:Late Night Shopping at Ski Rental Berglift – Up to 40% discount on top brands!\nExperience the exclusive Late Night Shopping at Ski Rental Berglift and secure up to 40% discount on a wide selection of high-quality ski and winter sports equipment! \nFor a limited time only\, you can grab top brand products at unbeatable prices\, including:✅ Skis & ski boots – Perfect performance on the slopes✅ Helmets & ski goggles – For optimal safety and best visibility✅ Sunglasses – Protection & style in the mountains✅ Functional underwear – Warming base layers for maximum comfort \nCome by\, discover our range and benefit from the unique offers! From 26.02.2025 every Wednesday and Monday!
URL:https://www.berglift.com/en/event/late-night-shopping-up-to-40-off-ski-rental-berglift/2025-03-05/
LOCATION:Berglift Bad Hofgastein\, Bundesstrasse 252\, Bad Hofgastein\, Salzburg Land\, 5630\, Austria
ATTACH;FMTTYPE=image/png:https://www.berglift.com/wp-content/uploads/2025/02/LATE-NIGHT-SHOPPING.png
END:VEVENT
BEGIN:VEVENT
DTSTART;TZID=Europe/Vienna:20250310T180000
DTEND;TZID=Europe/Vienna:20250310T220000
DTSTAMP:20260421T120109
CREATED:20250224T122923Z
LAST-MODIFIED:20251115T195550Z
UID:10000179-1741629600-1741644000@www.berglift.com
SUMMARY:Late Night Shopping. Up to 40% off. Ski Rental Berglift
DESCRIPTION:Late Night Shopping at Ski Rental Berglift – Up to 40% discount on top brands!\nExperience the exclusive Late Night Shopping at Ski Rental Berglift and secure up to 40% discount on a wide selection of high-quality ski and winter sports equipment! \nFor a limited time only\, you can grab top brand products at unbeatable prices\, including:✅ Skis & ski boots – Perfect performance on the slopes✅ Helmets & ski goggles – For optimal safety and best visibility✅ Sunglasses – Protection & style in the mountains✅ Functional underwear – Warming base layers for maximum comfort \nCome by\, discover our range and benefit from the unique offers! From 26.02.2025 every Wednesday and Monday!
URL:https://www.berglift.com/en/event/late-night-shopping-up-to-40-off-ski-rental-berglift/2025-03-10/
LOCATION:Berglift Bad Hofgastein\, Bundesstrasse 252\, Bad Hofgastein\, Salzburg Land\, 5630\, Austria
ATTACH;FMTTYPE=image/png:https://www.berglift.com/wp-content/uploads/2025/02/LATE-NIGHT-SHOPPING.png
END:VEVENT
BEGIN:VEVENT
DTSTART;TZID=Europe/Vienna:20250312T180000
DTEND;TZID=Europe/Vienna:20250312T220000
DTSTAMP:20260421T120109
CREATED:20250224T122923Z
LAST-MODIFIED:20251115T195550Z
UID:10000180-1741802400-1741816800@www.berglift.com
SUMMARY:Late Night Shopping. Up to 40% off. Ski Rental Berglift
DESCRIPTION:Late Night Shopping at Ski Rental Berglift – Up to 40% discount on top brands!\nExperience the exclusive Late Night Shopping at Ski Rental Berglift and secure up to 40% discount on a wide selection of high-quality ski and winter sports equipment! \nFor a limited time only\, you can grab top brand products at unbeatable prices\, including:✅ Skis & ski boots – Perfect performance on the slopes✅ Helmets & ski goggles – For optimal safety and best visibility✅ Sunglasses – Protection & style in the mountains✅ Functional underwear – Warming base layers for maximum comfort \nCome by\, discover our range and benefit from the unique offers! From 26.02.2025 every Wednesday and Monday!
URL:https://www.berglift.com/en/event/late-night-shopping-up-to-40-off-ski-rental-berglift/2025-03-12/
LOCATION:Berglift Bad Hofgastein\, Bundesstrasse 252\, Bad Hofgastein\, Salzburg Land\, 5630\, Austria
ATTACH;FMTTYPE=image/png:https://www.berglift.com/wp-content/uploads/2025/02/LATE-NIGHT-SHOPPING.png
END:VEVENT
BEGIN:VEVENT
DTSTART;TZID=Europe/Vienna:20250315T203000
DTEND;TZID=Europe/Vienna:20250315T230000
DTSTAMP:20260421T120109
CREATED:20241210T102049Z
LAST-MODIFIED:20251115T195445Z
UID:10000122-1742070600-1742079600@www.berglift.com
SUMMARY:Thread
DESCRIPTION:Discover ZWIRN – the band that has conquered the party scene with hits like Hoiwa7i and #hobidi! Their music stands for energy\, good vibes\, and unforgettable moments. With their new song da fress i an Hirsch and a fresh album\, ZWIRN are ready to keep rocking the stage. And it’s getting hot in winter: The guys are heating up Gastein and performing in the Berglift – an unforgettable event! Get the sounds that make every party a highlight!
URL:https://www.berglift.com/en/event/thread/
LOCATION:Salzburg Land
ATTACH;FMTTYPE=image/jpeg:https://www.berglift.com/wp-content/uploads/2024/11/Zwirn_Foto_2024_Komposition_31-scaled-scaled.jpg
END:VEVENT
BEGIN:VEVENT
DTSTART;TZID=Europe/Vienna:20250317T180000
DTEND;TZID=Europe/Vienna:20250317T220000
DTSTAMP:20260421T120109
CREATED:20250224T122923Z
LAST-MODIFIED:20251115T195550Z
UID:10000181-1742234400-1742248800@www.berglift.com
SUMMARY:Late Night Shopping. Up to 40% off. Ski Rental Berglift
DESCRIPTION:Late Night Shopping at Ski Rental Berglift – Up to 40% discount on top brands!\nExperience the exclusive Late Night Shopping at Ski Rental Berglift and secure up to 40% discount on a wide selection of high-quality ski and winter sports equipment! \nFor a limited time only\, you can grab top brand products at unbeatable prices\, including:✅ Skis & ski boots – Perfect performance on the slopes✅ Helmets & ski goggles – For optimal safety and best visibility✅ Sunglasses – Protection & style in the mountains✅ Functional underwear – Warming base layers for maximum comfort \nCome by\, discover our range and benefit from the unique offers! From 26.02.2025 every Wednesday and Monday!
URL:https://www.berglift.com/en/event/late-night-shopping-up-to-40-off-ski-rental-berglift/2025-03-17/
LOCATION:Berglift Bad Hofgastein\, Bundesstrasse 252\, Bad Hofgastein\, Salzburg Land\, 5630\, Austria
ATTACH;FMTTYPE=image/png:https://www.berglift.com/wp-content/uploads/2025/02/LATE-NIGHT-SHOPPING.png
END:VEVENT
BEGIN:VEVENT
DTSTART;TZID=Europe/Vienna:20250318T153000
DTEND;TZID=Europe/Vienna:20250318T183000
DTSTAMP:20260421T120109
CREATED:20241210T103656Z
LAST-MODIFIED:20251115T195501Z
UID:10000126-1742311800-1742322600@www.berglift.com
SUMMARY:The Firstline Band
DESCRIPTION:The First Line Band is a Salzburg-based formation that has been present at balls and events of all kinds for over 20 years. The endless repertoire of these professional\, full-blooded musicians ranges from the 50s to the present\, from swing and old hits to Rihanna and Despacito. Join us and celebrate with us – we’ll see you there!
URL:https://www.berglift.com/en/event/the-firstline-band-2/
LOCATION:Salzburg Land
END:VEVENT
END:VCALENDAR